BEGIN:VCALENDAR
VERSION:2.0
PRODID:-//Tukios.com/
BEGIN:VEVENT
UID:99c65c3e-3462-42ac-84ff-5e0382f3d7d0@www.bairdfuneralhome.com
DTSTAMP:20260421T172002Z
DTSTART:20260425T170000Z
DTEND:20260425T180000Z
SUMMARY:Funeral Service
DESCRIPTION:
URL:https://www.bairdfuneralhome.com/obituaries/sherry-wray
LOCATION:Baird Funeral Home 555 N Market St  Troy OH 45373
GEO:40.0453025;-84.1975307
END:VEVENT
END:VCALENDAR