BEGIN:VCALENDAR
VERSION:2.0
PRODID:-//Tukios.com/
BEGIN:VEVENT
UID:893faa66-f823-4820-b4eb-c8a13779cd2b@www.bairdfuneralhome.com
DTSTAMP:20260421T172655Z
DTSTART:20260425T150000Z
DTEND:20260425T170000Z
SUMMARY:Visitation
DESCRIPTION:
URL:https://www.bairdfuneralhome.com/obituaries/sherry-wray
LOCATION:Baird Funeral Home 555 N Market St  Troy OH 45373
GEO:40.0453025;-84.1975307
END:VEVENT
END:VCALENDAR