BEGIN:VCALENDAR
VERSION:2.0
PRODID:-//Tukios.com/
BEGIN:VEVENT
UID:92137286-f73b-4f35-af59-9c5fb4e55f0d@www.bairdfuneralhome.com
DTSTAMP:20260423T025414Z
DTSTART:20260502T140000Z
DTEND:20260502T150000Z
SUMMARY:Memorial Service
DESCRIPTION:
URL:https://www.bairdfuneralhome.com/obituaries/jan-couchman
LOCATION: 555 N Market St  Troy OH 45373
GEO:40.0453025;-84.1975307
END:VEVENT
END:VCALENDAR