BEGIN:VCALENDAR
VERSION:2.0
PRODID:-//Tukios.com/
BEGIN:VEVENT
UID:60db7743-04cd-4188-8d6c-f9e075ea000b@www.bairdfuneralhome.com
DTSTAMP:20260423T025615Z
DTSTART:20260502T130000Z
DTEND:20260502T140000Z
SUMMARY:Visitation
DESCRIPTION:
URL:https://www.bairdfuneralhome.com/obituaries/jan-couchman
LOCATION:Baird Funeral Home 555 N Market St  Troy OH 45373
GEO:40.0453025;-84.1975307
END:VEVENT
END:VCALENDAR