BEGIN:VCALENDAR
VERSION:2.0
PRODID:-//Tukios.com/
BEGIN:VEVENT
UID:71fe8e56-9f0a-419d-ab40-36c8147fe5fc@www.bairdfuneralhome.com
DTSTAMP:20260424T181140Z
DTSTART:20260428T180000Z
DTEND:20260428T190000Z
SUMMARY:Funeral Service
DESCRIPTION:
URL:https://www.bairdfuneralhome.com/obituaries/james-erwin
LOCATION:Baird Funeral Home 555 N Market St  Troy OH 45373
GEO:40.0453025;-84.1975307
END:VEVENT
END:VCALENDAR