BEGIN:VCALENDAR
VERSION:2.0
PRODID:-//Tukios.com/
BEGIN:VEVENT
UID:b87f4210-acf8-4f98-9055-19dc8c48de9d@www.bairdfuneralhome.com
DTSTAMP:20260424T181032Z
DTSTART:20260428T170000Z
DTEND:20260428T180000Z
SUMMARY:Visitation
DESCRIPTION:
URL:https://www.bairdfuneralhome.com/obituaries/james-erwin
LOCATION:Baird Funeral Home 555 N Market St  Troy OH 45373
GEO:40.0453025;-84.1975307
END:VEVENT
END:VCALENDAR